BEGIN:VCALENDAR
VERSION:2.0
PRODID:-//Goldmorr System - ECPv6.15.20//NONSGML v1.0//EN
CALSCALE:GREGORIAN
METHOD:PUBLISH
X-WR-CALNAME:Goldmorr System
X-ORIGINAL-URL:https://goldmorrusa.com
X-WR-CALDESC:Events for Goldmorr System
REFRESH-INTERVAL;VALUE=DURATION:PT1H
X-Robots-Tag:noindex
X-PUBLISHED-TTL:PT1H
BEGIN:VTIMEZONE
TZID:UTC
BEGIN:STANDARD
TZOFFSETFROM:+0000
TZOFFSETTO:+0000
TZNAME:UTC
DTSTART:20230101T000000
END:STANDARD
END:VTIMEZONE
BEGIN:VEVENT
DTSTART;VALUE=DATE:20240520
DTEND;VALUE=DATE:20240524
DTSTAMP:20260425T104050
CREATED:20231012T154718Z
LAST-MODIFIED:20231206T215505Z
UID:1485-1716163200-1716508799@goldmorrusa.com
SUMMARY:ACCESS NATIONAL CONFERENCE (BOOTH 222)
DESCRIPTION:BOOTH 222
URL:https://goldmorrusa.com/event/access-national-conference/
LOCATION:Rosen Shingle Creek\, Orlando\, United States
ATTACH;FMTTYPE=image/jpeg:https://goldmorrusa.com/wp-content/uploads/2023/09/370342973_786502690151062_8389862736423572772_n.jpg
END:VEVENT
END:VCALENDAR