BEGIN:VCALENDAR
VERSION:2.0
PRODID:-//Goldmorr System - ECPv6.15.20//NONSGML v1.0//EN
CALSCALE:GREGORIAN
METHOD:PUBLISH
X-ORIGINAL-URL:https://goldmorrusa.com
X-WR-CALDESC:Events for Goldmorr System
REFRESH-INTERVAL;VALUE=DURATION:PT1H
X-Robots-Tag:noindex
X-PUBLISHED-TTL:PT1H
BEGIN:VTIMEZONE
TZID:UTC
BEGIN:STANDARD
TZOFFSETFROM:+0000
TZOFFSETTO:+0000
TZNAME:UTC
DTSTART:20230101T000000
END:STANDARD
END:VTIMEZONE
BEGIN:VEVENT
DTSTART;VALUE=DATE:20240904
DTEND;VALUE=DATE:20240907
DTSTAMP:20260425T041940
CREATED:20240116T155511Z
LAST-MODIFIED:20240116T160131Z
UID:1739-1725408000-1725667199@goldmorrusa.com
SUMMARY:The Experience Convention and Trade Show
DESCRIPTION:Plan to join us and connect face-to-face with like-minded peers\, enjoy extensive hands-on learning opportunities as well as classroom education\, and uncover emerging trends and technologies. A first class array of instructors will share timely information on topics such as water damage restoration\, fire damage restoration\, mold remediation\, cleaning (carpet\, rug\, upholstery\, stone & tile and luxury vinyl plank)\, contents restoration\, catastrophe restoration\, forensic restoration\, business management and marketing\, insurance and legal issues\, and much more.\nWith a vibrant exhibit hall\, exceptional education and dynamic networking functions\, The Experience is the place to find opportunities to help grow your business and your career.
URL:https://goldmorrusa.com/event/the-experience-convention-and-trade-show/
LOCATION:Ceaser\, Las Vegas\, Nevada\, United States
ATTACH;FMTTYPE=image/jpeg:https://goldmorrusa.com/wp-content/uploads/2023/09/image.jpg
END:VEVENT
END:VCALENDAR