BEGIN:VCALENDAR
VERSION:2.0
PRODID:-//Goldmorr System - ECPv6.15.20//NONSGML v1.0//EN
CALSCALE:GREGORIAN
METHOD:PUBLISH
X-WR-CALNAME:Goldmorr System
X-ORIGINAL-URL:https://goldmorrusa.com
X-WR-CALDESC:Events for Goldmorr System
REFRESH-INTERVAL;VALUE=DURATION:PT1H
X-Robots-Tag:noindex
X-PUBLISHED-TTL:PT1H
BEGIN:VTIMEZONE
TZID:UTC
BEGIN:STANDARD
TZOFFSETFROM:+0000
TZOFFSETTO:+0000
TZNAME:UTC
DTSTART:20240101T000000
END:STANDARD
END:VTIMEZONE
BEGIN:VEVENT
DTSTART;VALUE=DATE:20250428
DTEND;VALUE=DATE:20250501
DTSTAMP:20260424T132851
CREATED:20241209T130231Z
LAST-MODIFIED:20241209T131639Z
UID:6921-1745798400-1746057599@goldmorrusa.com
SUMMARY:2025 RIA International Restoration Convention & Industry Expo!
DESCRIPTION:📢 GOLRMORR USA is Thrilled to Announce Our Participation in the 2025 RIA International Restoration Convention & Industry Expo! \nJoin us at the Restoration Industry Association’s premier event\, where industry leaders gather to share insights\, innovations\, and advancements in restoration. \n📅 Dates: April 28-30\, 2025\n📍 Venue: Palm Beach County Convention Center\, 650 Okeechobee Boulevard\, West Palm Beach\, FL 33401 \nBooth information will be announced soon. Stay tuned for updates on our location and special activities planned for the event. \nFor more details about the convention\, visit the Restoration Industry Association’s official website. \nWe look forward to connecting with fellow professionals and showcasing our latest innovations in restoration.
URL:https://goldmorrusa.com/event/2025-ria-international-restoration-convention-industry-expo/
LOCATION:Palm Beach County Convention Center\, 650 Okeechobee Boulevard\, West Palm Beach\, FL\, 33401
ATTACH;FMTTYPE=image/png:https://goldmorrusa.com/wp-content/uploads/2024/12/images.png
END:VEVENT
END:VCALENDAR