BEGIN:VCALENDAR
VERSION:2.0
PRODID:-//Goldmorr System - ECPv6.15.20//NONSGML v1.0//EN
CALSCALE:GREGORIAN
METHOD:PUBLISH
X-ORIGINAL-URL:https://goldmorrusa.com
X-WR-CALDESC:Events for Goldmorr System
REFRESH-INTERVAL;VALUE=DURATION:PT1H
X-Robots-Tag:noindex
X-PUBLISHED-TTL:PT1H
BEGIN:VTIMEZONE
TZID:UTC
BEGIN:STANDARD
TZOFFSETFROM:+0000
TZOFFSETTO:+0000
TZNAME:UTC
DTSTART:20240101T000000
END:STANDARD
END:VTIMEZONE
BEGIN:VEVENT
DTSTART;VALUE=DATE:20250505
DTEND;VALUE=DATE:20250509
DTSTAMP:20260424T133352
CREATED:20241209T131345Z
LAST-MODIFIED:20241209T135725Z
UID:6925-1746403200-1746748799@goldmorrusa.com
SUMMARY:Access National Conference
DESCRIPTION:📢 GOLRMORR USA is Excited to Announce Our Participation in the ACCESS National Conference! \nJoin us at the ACCESS National Conference\, a premier event designed to empower professionals with knowledge\, connect industry leaders and peers\, and inspire innovative solutions. \n📅 Dates: May 5-8\, 2025\n📍 Venue: Caribe Royale\, 8101 World Center Dr\, Orlando\, FL 32821 \nBooth information will be announced soon. Stay tuned for updates on our location and special activities planned for the event. \nFor more details about the conference\, visit the ACCESS National Conference official website. \nWe look forward to connecting with fellow professionals and showcasing our latest innovations.
URL:https://goldmorrusa.com/event/access-national-conference-2/
LOCATION:Caribe Royale\, 8101 World Center Dr\, Orlando\, FL\, 32821
ATTACH;FMTTYPE=image/jpeg:https://goldmorrusa.com/wp-content/uploads/2024/12/images-8.jpeg
END:VEVENT
END:VCALENDAR