BEGIN:VCALENDAR
VERSION:2.0
PRODID:-//Goldmorr System - ECPv6.15.20//NONSGML v1.0//EN
CALSCALE:GREGORIAN
METHOD:PUBLISH
X-ORIGINAL-URL:https://goldmorrusa.com
X-WR-CALDESC:Events for Goldmorr System
REFRESH-INTERVAL;VALUE=DURATION:PT1H
X-Robots-Tag:noindex
X-PUBLISHED-TTL:PT1H
BEGIN:VTIMEZONE
TZID:UTC
BEGIN:STANDARD
TZOFFSETFROM:+0000
TZOFFSETTO:+0000
TZNAME:UTC
DTSTART:20250101T000000
END:STANDARD
END:VTIMEZONE
BEGIN:VEVENT
DTSTART;TZID=UTC:20260518T080000
DTEND;TZID=UTC:20260521T170000
DTSTAMP:20260423T194738
CREATED:20260205T170155Z
LAST-MODIFIED:20260205T170246Z
UID:8466-1779091200-1779382800@goldmorrusa.com
SUMMARY:ACCESS National Conference 2026
DESCRIPTION:Booth #333
URL:https://goldmorrusa.com/event/access-national-conference-2026/
LOCATION:Orlando\, FL\, Rosen Shingle Creek\, Orlando\, FL\, United States
ATTACH;FMTTYPE=image/webp:https://goldmorrusa.com/wp-content/uploads/2026/02/Screenshot-2025-05-20-at-4.58.18-PM.webp
END:VEVENT
BEGIN:VEVENT
DTSTART;TZID=UTC:20260909T080000
DTEND;TZID=UTC:20260911T170000
DTSTAMP:20260423T194738
CREATED:20260205T170849Z
LAST-MODIFIED:20260205T170956Z
UID:8472-1788940800-1789146000@goldmorrusa.com
SUMMARY:The Experience 2026
DESCRIPTION:Booth #426
URL:https://goldmorrusa.com/event/the-experience-2026/
LOCATION:Las Vegas\, Paris Las Vegas Hotel & Casino\, Las Vegas\, NV\, United States
ATTACH;FMTTYPE=image/jpeg:https://goldmorrusa.com/wp-content/uploads/2026/02/615502600_1822306088711782_1616177237345939239_n.jpg
END:VEVENT
END:VCALENDAR