BEGIN:VCALENDAR
VERSION:2.0
PRODID:-//Goldmorr System - ECPv6.15.20//NONSGML v1.0//EN
CALSCALE:GREGORIAN
METHOD:PUBLISH
X-WR-CALNAME:Goldmorr System
X-ORIGINAL-URL:https://goldmorrusa.com
X-WR-CALDESC:Events for Goldmorr System
REFRESH-INTERVAL;VALUE=DURATION:PT1H
X-Robots-Tag:noindex
X-PUBLISHED-TTL:PT1H
BEGIN:VTIMEZONE
TZID:UTC
BEGIN:STANDARD
TZOFFSETFROM:+0000
TZOFFSETTO:+0000
TZNAME:UTC
DTSTART:20220101T000000
END:STANDARD
END:VTIMEZONE
BEGIN:VEVENT
DTSTART;VALUE=DATE:20230614
DTEND;VALUE=DATE:20230617
DTSTAMP:20260423T212147
CREATED:20230928T144050Z
LAST-MODIFIED:20230928T144050Z
UID:1458-1686700800-1686959999@goldmorrusa.com
SUMMARY:2023 Restore Contractor Connection
DESCRIPTION:The RESTORE Conference speaks to Contractor Connection’s mission to restore and enhance lives\, businesses and communities. Network members have the opportunity every day to put that mission into action. Contractor Connection’s insurance carrier clients and their policyholders rely on the Contractor Connection network to perform at a high level and deliver the best possible customer experience\, restoring a sense of normalcy for property owners when they need it most. \nThe Contractor Connection network is committed to service excellence\, innovative solutions\, and adoption of the latest technology. Our elite contractor network leverages their expertise daily\, navigating the challenges of the restoration industry\, to deliver on estimate accuracy\, quality work\, and exceptional customer experiences. This year’s event will offer education and insight into all of these areas. \nThis is your chance to hear from others in the property restoration and home improvement fields. It’s your opportunity to take part in informative General Sessions\, engaging Workshops\, a variety of Breakout Sessions\, and Town Halls led by insurance carrier personnel and top industry experts. \nThe 2023 Contractor Connection RESTORE Conference promises to deliver an experience unlike any other!
URL:https://goldmorrusa.com/event/2023-restore-contractor-connection/
LOCATION:Memorial Convention Center\, New Orleans\, LA\, United States
ATTACH;FMTTYPE=image/png:https://goldmorrusa.com/wp-content/uploads/2023/09/download-4.png
END:VEVENT
BEGIN:VEVENT
DTSTART;VALUE=DATE:20230522
DTEND;VALUE=DATE:20230526
DTSTAMP:20260423T212147
CREATED:20230928T143518Z
LAST-MODIFIED:20230928T143518Z
UID:1451-1684713600-1685059199@goldmorrusa.com
SUMMARY:2023 ACCESS NATIONAL CONFERENCE
DESCRIPTION:ACCESS National Conference is about Alacrity Network business\, but at it’s heart\, it is about community\, relationships and inspiration. At ACCESS we recognize the Insurance Companies\, the Contractors and the Suppliers who move us into the future.
URL:https://goldmorrusa.com/event/2023-access-national-conference/
LOCATION:Rosen Shingle Creek\, Orlando\, United States
ATTACH;FMTTYPE=image/jpeg:https://goldmorrusa.com/wp-content/uploads/2023/09/370342973_786502690151062_8389862736423572772_n.jpg
END:VEVENT
END:VCALENDAR