BEGIN:VCALENDAR
VERSION:2.0
PRODID:-//Goldmorr System - ECPv6.15.20//NONSGML v1.0//EN
CALSCALE:GREGORIAN
METHOD:PUBLISH
X-WR-CALNAME:Goldmorr System
X-ORIGINAL-URL:https://goldmorrusa.com
X-WR-CALDESC:Events for Goldmorr System
REFRESH-INTERVAL;VALUE=DURATION:PT1H
X-Robots-Tag:noindex
X-PUBLISHED-TTL:PT1H
BEGIN:VTIMEZONE
TZID:UTC
BEGIN:STANDARD
TZOFFSETFROM:+0000
TZOFFSETTO:+0000
TZNAME:UTC
DTSTART:20240101T000000
END:STANDARD
END:VTIMEZONE
BEGIN:VEVENT
DTSTART;VALUE=DATE:20250325
DTEND;VALUE=DATE:20250328
DTSTAMP:20260424T163816
CREATED:20241209T125750Z
LAST-MODIFIED:20241209T125750Z
UID:6916-1742860800-1743119999@goldmorrusa.com
SUMMARY:NFMT 2025
DESCRIPTION:📢 GOLRMORR USA is Heading to NFMT 2025! \nWe’re excited to announce our participation in the National Facilities Management and Technology (NFMT) Conference and Expo in Baltimore’s Inner Harbor. \n📅 Dates: March 25-27\, 2025\n📍 Venue: Baltimore Convention Center\, One West Pratt Street\, Baltimore\, MD 21201 \nJoin us to explore our latest innovations in [industry or product focus]. Our team will be on hand to discuss how our solutions can enhance your operations. \nBooth information will be announced soon. Stay tuned for updates! \nFor more details about the event\, visit the NFMT 2025 Official Website. \nWe look forward to connecting with you in Baltimore! \n#GOLRMORRUSA #NFMT2025 #FacilitiesManagement #InnovationInAction #SaveTheDate
URL:https://goldmorrusa.com/event/nfmt-2025/
LOCATION:Baltimore Convention Center\, One West Pratt Street\, Baltimore\, MD 21201\, One West Pratt Street\, Baltimore\, MD\, 21201
ATTACH;FMTTYPE=image/jpeg:https://goldmorrusa.com/wp-content/uploads/2024/12/NFMT-LearningLabs-IMG.jpg
END:VEVENT
END:VCALENDAR